BEGIN:VCALENDAR
PRODID:-//Microsoft Corporation//Outlook 12.0 MIMEDIR//EN
VERSION:2.0
CALSCALE:GREGORIAN
BEGIN:VEVENT
UID: 3fab3609-1884-44f4-8931-f3428d494c7b
SUMMARY:Koostööhommik "Kooli väärtused"
DTSTAMP:20241002T083000
DTSTART:20241002T083000
DTEND:20241002T094500
LOCATION:Kooli aula
DESCRIPTION: <p><span>Personali mõttetalgud teemal “Kooli väärtused”</span></p><p><strong>Link: </strong>https://yhisparnu.ee/et/koolituste-kalender/koostoohommik-kooli-vaartused</p><p><strong>Hind: </strong></p>
STATUS:CONFIRMED
SEQUENCE:3
X-ALT-DESC;FMTTYPE=text/html:<p><span>Personali mõttetalgud teemal “Kooli väärtused”</span></p><p><strong>Link: </strong>https://yhisparnu.ee/et/koolituste-kalender/koostoohommik-kooli-vaartused</p><p><strong>Hind: </strong></p>
X-MICROSOFT-CDO-BUSYSTATUS:OOF
X-MICROSOFT-CDO-IMPORTANCE:1
X-MICROSOFT-DISALLOW-COUNTER:FALSE
X-MS-OLK-ALLOWEXTERNCHECK:TRUE
X-MS-OLK-CONFTYPE:0
X-MICROSOFT-CDO-ALLDAYEVENT:
X-MICROSOFT-MSNCALENDAR-ALLDAYEVENT:
END:VEVENT
END:VCALENDAR