BEGIN:VCALENDAR
PRODID:-//Microsoft Corporation//Outlook 12.0 MIMEDIR//EN
VERSION:2.0
CALSCALE:GREGORIAN
BEGIN:VEVENT
UID: 7175f691-252d-404c-99c5-801b7ef0f18d
SUMMARY:Kooliga tutvub Dr Emmanuelle Le Pichon-Vorstman Toronto Ülikoolist
DTSTAMP:20260409T114500
DTSTART:20260409T114500
DTEND:20260409T124500
LOCATION:
DESCRIPTION: <p><span style="-webkit-text-stroke-width:0px;background-color:rgb(252, 254, 255);color:rgb(17, 17, 17);display:inline !important;float:none;font-family:&quot;Stuudium Sans&quot;, BlinkMacSystemFont, -apple-system, &quot;Segoe UI&quot;, Roboto, Helvetica, Arial, sans-serif;font-size:15px;font-style:normal;font-variant-caps:normal;font-variant-ligatures:normal;font-weight:400;letter-spacing:-0.135px;orphans:2;text-align:start;text-decoration-color:initial;text-decoration-style:initial;text-decoration-thickness:initial;text-indent:0px;text-transform:none;white-space:normal;widows:2;word-spacing:0px;">Külas Toronto Ülikooli OISE instituudi hariduslingvistika kaasprofessor ning Language Friendly School’i kaasasutaja Dr Emmanuelle Le Pichon-Vorstman.</span><br><br><span style="-webkit-text-stroke-width:0px;background-color:rgb(252, 254, 255);color:rgb(17, 17, 17);display:inline !important;float:none;font-family:&quot;Stuudium Sans&quot;, BlinkMacSystemFont, -apple-system, &quot;Segoe UI&quot;, Roboto, Helvetica, Arial, sans-serif;font-size:15px;font-style:normal;font-variant-caps:normal;font-variant-ligatures:normal;font-weight:400;letter-spacing:-0.135px;orphans:2;text-align:start;text-decoration-color:initial;text-decoration-style:initial;text-decoration-thickness:initial;text-indent:0px;text-transform:none;white-space:normal;widows:2;word-spacing:0px;">Õppe- ja arendusjuht Kriste ning Dr Emmanuelle Le Pichon-Vorstman esinevad Pärnus üleriigilistel LAK õppepäevadel ning professor tuleb tutvuma ka meie kooli ja tegemistega.</span></p><p><strong>Link: </strong>https://yhisparnu.ee/et/sundmuste-kalender/kooliga-tutvub-dr-emmanuelle-le-pichon-vorstman-toronto-ulikoolist</p><p><strong>Hind: </strong></p>
STATUS:CONFIRMED
SEQUENCE:3
X-ALT-DESC;FMTTYPE=text/html:<p><span style="-webkit-text-stroke-width:0px;background-color:rgb(252, 254, 255);color:rgb(17, 17, 17);display:inline !important;float:none;font-family:&quot;Stuudium Sans&quot;, BlinkMacSystemFont, -apple-system, &quot;Segoe UI&quot;, Roboto, Helvetica, Arial, sans-serif;font-size:15px;font-style:normal;font-variant-caps:normal;font-variant-ligatures:normal;font-weight:400;letter-spacing:-0.135px;orphans:2;text-align:start;text-decoration-color:initial;text-decoration-style:initial;text-decoration-thickness:initial;text-indent:0px;text-transform:none;white-space:normal;widows:2;word-spacing:0px;">Külas Toronto Ülikooli OISE instituudi hariduslingvistika kaasprofessor ning Language Friendly School’i kaasasutaja Dr Emmanuelle Le Pichon-Vorstman.</span><br><br><span style="-webkit-text-stroke-width:0px;background-color:rgb(252, 254, 255);color:rgb(17, 17, 17);display:inline !important;float:none;font-family:&quot;Stuudium Sans&quot;, BlinkMacSystemFont, -apple-system, &quot;Segoe UI&quot;, Roboto, Helvetica, Arial, sans-serif;font-size:15px;font-style:normal;font-variant-caps:normal;font-variant-ligatures:normal;font-weight:400;letter-spacing:-0.135px;orphans:2;text-align:start;text-decoration-color:initial;text-decoration-style:initial;text-decoration-thickness:initial;text-indent:0px;text-transform:none;white-space:normal;widows:2;word-spacing:0px;">Õppe- ja arendusjuht Kriste ning Dr Emmanuelle Le Pichon-Vorstman esinevad Pärnus üleriigilistel LAK õppepäevadel ning professor tuleb tutvuma ka meie kooli ja tegemistega.</span></p><p><strong>Link: </strong>https://yhisparnu.ee/et/sundmuste-kalender/kooliga-tutvub-dr-emmanuelle-le-pichon-vorstman-toronto-ulikoolist</p><p><strong>Hind: </strong></p>
X-MICROSOFT-CDO-BUSYSTATUS:OOF
X-MICROSOFT-CDO-IMPORTANCE:1
X-MICROSOFT-DISALLOW-COUNTER:FALSE
X-MS-OLK-ALLOWEXTERNCHECK:TRUE
X-MS-OLK-CONFTYPE:0
X-MICROSOFT-CDO-ALLDAYEVENT:
X-MICROSOFT-MSNCALENDAR-ALLDAYEVENT:
END:VEVENT
END:VCALENDAR