BEGIN:VCALENDAR
PRODID:-//Microsoft Corporation//Outlook 12.0 MIMEDIR//EN
VERSION:2.0
CALSCALE:GREGORIAN
BEGIN:VEVENT
UID: de8bd639-8670-46e7-b785-ab912a5400ab
SUMMARY:Õpilased õpirändel Riias, koos õpetajate Sarmite Tammekivi ja Marika Ristmäega
DTSTAMP:20260329
DTSTART:20260329
DTEND:20260402
DURATION:P4D
LOCATION:
DESCRIPTION: <p><strong>Link: </strong>https://yhisparnu.ee/et/sundmuste-kalender/opilased-opirandel-riias-koos-opetajate-sarmite-tammekivi-ja-marika-ristmaega</p><p><strong>Hind: </strong></p>
STATUS:CONFIRMED
SEQUENCE:3
X-ALT-DESC;FMTTYPE=text/html:<p><strong>Link: </strong>https://yhisparnu.ee/et/sundmuste-kalender/opilased-opirandel-riias-koos-opetajate-sarmite-tammekivi-ja-marika-ristmaega</p><p><strong>Hind: </strong></p>
X-MICROSOFT-CDO-BUSYSTATUS:OOF
X-MICROSOFT-CDO-IMPORTANCE:1
X-MICROSOFT-DISALLOW-COUNTER:FALSE
X-MS-OLK-ALLOWEXTERNCHECK:TRUE
X-MS-OLK-CONFTYPE:0
X-MICROSOFT-CDO-ALLDAYEVENT:1
X-MICROSOFT-MSNCALENDAR-ALLDAYEVENT:1
END:VEVENT
END:VCALENDAR